BEGIN:VCALENDAR
VERSION:2.0
PRODID:-//Marlo Hotel - ECPv5.3.2.1//NONSGML v1.0//EN
CALSCALE:GREGORIAN
METHOD:PUBLISH
X-WR-CALNAME:Marlo Hotel
X-ORIGINAL-URL:https://marlohotel.com.au
X-WR-CALDESC:Events for Marlo Hotel
BEGIN:VTIMEZONE
TZID:UTC
BEGIN:STANDARD
TZOFFSETFROM:+0000
TZOFFSETTO:+0000
TZNAME:UTC
DTSTART:20190101T000000
END:STANDARD
END:VTIMEZONE
BEGIN:VEVENT
DTSTART;TZID=UTC:20191026T084000
DTEND;TZID=UTC:20191026T234500
DTSTAMP:20210226T025438
CREATED:20180514T002158Z
LAST-MODIFIED:20191014T103515Z
UID:608-1572079200-1572133500@marlohotel.com.au
SUMMARY:THE SPITTING SWALLOWS live at OKTOBERFEST 8.42pm Oct 26th
DESCRIPTION:Back to help us celebrate Oktoberfest in style its THE SPITTING SWALLOWS live in the back room from 8.42pm on Sat Oct 26th. Really stoked to be having these guys playing back at Marlo for Oktoberfest. They have built as huge reputation and following for their live shows and are filling venues right across Gipsland \, The Valley and Melb. Will be a huge night in Marlo. One not to miss \nhttps://www.facebook.com/pg/TheSpittingSwallows/about/?ref=page_internal \nhttps://vidmoon.co/video/gWMcQKPBAPBo1ZVZgE \n  \n 
URL:https://marlohotel.com.au/events/the-spitting-swallows-live-8-42pm-may-19th/
LOCATION:Marlo Hotel\, 19 Argyle Parade\, Marlo\, VIC\, 3888\, Australia
END:VEVENT
END:VCALENDAR