BEGIN:VCALENDAR
VERSION:2.0
PRODID:-//Marlo Hotel - ECPv5.3.2.1//NONSGML v1.0//EN
CALSCALE:GREGORIAN
METHOD:PUBLISH
X-WR-CALNAME:Marlo Hotel
X-ORIGINAL-URL:https://marlohotel.com.au
X-WR-CALDESC:Events for Marlo Hotel
BEGIN:VTIMEZONE
TZID:UTC
BEGIN:STANDARD
TZOFFSETFROM:+0000
TZOFFSETTO:+0000
TZNAME:UTC
DTSTART:20200101T000000
END:STANDARD
END:VTIMEZONE
BEGIN:VEVENT
DTSTART;TZID=UTC:20200126T194500
DTEND;TZID=UTC:20200126T233000
DTSTAMP:20210226T024526
CREATED:20190429T102219Z
LAST-MODIFIED:20200122T044758Z
UID:681-1580067900-1580081400@marlohotel.com.au
SUMMARY:THE SCREAMING REELS live Sun Jan 26th 7.47PM [Gold Coin Donation]
DESCRIPTION:Had a really good night last time these guys were in town and its great to have them back and live at Marlo this Oz Day. Live in the front bar from 7.47pm \, rock \, blues \, pub classics. Looking forward to another night of quality LIVE MUSIC at Marlo this Australia Day. Entry by Gold Coin Donation with all funds raised going to our Bushfire Relief Fund
URL:https://marlohotel.com.au/events/the-screaming-riels-live-fri-may-3rd-7-56pm-free-entry/
LOCATION:Marlo Hotel\, 19 Argyle Parade\, Marlo\, VIC\, 3888\, Australia
END:VEVENT
END:VCALENDAR