BEGIN:VCALENDAR
VERSION:2.0
PRODID:-//Marlo Hotel - ECPv5.3.2.1//NONSGML v1.0//EN
CALSCALE:GREGORIAN
METHOD:PUBLISH
X-WR-CALNAME:Marlo Hotel
X-ORIGINAL-URL:https://marlohotel.com.au
X-WR-CALDESC:Events for Marlo Hotel
BEGIN:VTIMEZONE
TZID:UTC
BEGIN:STANDARD
TZOFFSETFROM:+0000
TZOFFSETTO:+0000
TZNAME:UTC
DTSTART:20190101T000000
END:STANDARD
END:VTIMEZONE
BEGIN:VEVENT
DTSTART;TZID=UTC:20191214T081500
DTEND;TZID=UTC:20191214T230000
DTSTAMP:20210226T025611
CREATED:20191127T111128Z
LAST-MODIFIED:20191127T111128Z
UID:759-1576311300-1576364400@marlohotel.com.au
SUMMARY:Sleepwalker's station & Torben Tietz live! Sat Dec 14th 8.16pm
DESCRIPTION:Great to be welcoming Sleepwalkers Station to Marlo on Sat Dec 14th. These guys are on the Australian Leg on their 2019 World Tour . They have been a constant touring act since 2011 playing over 900 live shows across Europe and America including Glastonbury (UK)\, SXSW (Texas)\, Open Flair (D)\, No Sin Musica (E)\, Pure&Crafted (Berlin)\nTheir current album release is in 5 languages and 4 dialects and made together with 22 musicians from all over Europe.\nA high quality live act and we are really pleased to be presenting them live at The Marlo Hotel this December \nhttps://open.spotify.com/album/6scj512iLurPKJwcESvYD3?fo=1
URL:https://marlohotel.com.au/events/sleepwalkers-station-torben-tietz-live-sat-dec-14th-8-16pm/
LOCATION:Marlo Hotel\, 19 Argyle Parade\, Marlo\, VIC\, 3888\, Australia
END:VEVENT
END:VCALENDAR