BEGIN:VCALENDAR
VERSION:2.0
PRODID:-//Marlo Hotel - ECPv5.3.2.1//NONSGML v1.0//EN
CALSCALE:GREGORIAN
METHOD:PUBLISH
X-WR-CALNAME:Marlo Hotel
X-ORIGINAL-URL:https://marlohotel.com.au
X-WR-CALDESC:Events for Marlo Hotel
BEGIN:VTIMEZONE
TZID:UTC
BEGIN:STANDARD
TZOFFSETFROM:+0000
TZOFFSETTO:+0000
TZNAME:UTC
DTSTART:20200101T000000
END:STANDARD
END:VTIMEZONE
BEGIN:VEVENT
DTSTART;TZID=UTC:20200124T200000
DTEND;TZID=UTC:20200124T233000
DTSTAMP:20210226T024500
CREATED:20190807T114238Z
LAST-MODIFIED:20200122T041214Z
UID:713-1579896000-1579908600@marlohotel.com.au
SUMMARY:Oscar Litchfield Live Fri Jan 24th 8.14 pm [Gold Coin Donation]
DESCRIPTION:From a one-man show that can tackle gigs from small intimate settings to larger upbeat rooms\, Oscar Litchfield delivers his music with energy & passion. \nRaised in the heart of the Snowy Mountains on a Merino sheep property\, Oscar spent the majority of his childhood outside & learning about the spaces that surrounded him. As he grew older\, these kinds of observations turned into writing. Playing guitar from a very young age\, he paired this skill with writing & began creating songs. \nOscar’s debut release\, the Front & Centre EP is now available to stream on all digital platforms. \nThe decision to make his dream of being a touring musician was put into place in 2019\, since then Oscar has toured heavily both close to home & afar. The second half of 2019 will take Oscar to New South Wales\, Victoria\, Tasmania\, South Australia & Western Australia. \n As part of this 2020 Summer tour Oscar is live at Marlo on Friday Jan 24th for another classic front bar gig. Entry will be by Gold Coin Donation with all funds going to our Bushfire Relief Fund Raiser \nhttps://www.oscarlitchfield.com \nhttps://www.facebook.com/pg/oscarlitchfieldmusic
URL:https://marlohotel.com.au/events/oscar-litchfield-live-fri-sep-6th-7-56-pm-free-entry/
LOCATION:Marlo Hotel\, 19 Argyle Parade\, Marlo\, VIC\, 3888\, Australia
END:VEVENT
END:VCALENDAR