BEGIN:VCALENDAR
VERSION:2.0
PRODID:-//Marlo Hotel - ECPv5.3.2.1//NONSGML v1.0//EN
CALSCALE:GREGORIAN
METHOD:PUBLISH
X-WR-CALNAME:Marlo Hotel
X-ORIGINAL-URL:https://marlohotel.com.au
X-WR-CALDESC:Events for Marlo Hotel
BEGIN:VTIMEZONE
TZID:UTC
BEGIN:STANDARD
TZOFFSETFROM:+0000
TZOFFSETTO:+0000
TZNAME:UTC
DTSTART:20190101T000000
END:STANDARD
END:VTIMEZONE
BEGIN:VEVENT
DTSTART;TZID=UTC:20190705T200000
DTEND;TZID=UTC:20190705T233000
DTSTAMP:20210226T030347
CREATED:20150604T143652Z
LAST-MODIFIED:20190616T090024Z
UID:315-1562356800-1562369400@marlohotel.com.au
SUMMARY:Mike Elrington Live Fri 5th July 7.51pm
DESCRIPTION:Mike Elrington is back Live in the front bar Fri July 5th  . A guitar playing wizard with a unique blend of blues \, jazz and rock. A great live gig . Free Entry. Hope to see you there
URL:https://marlohotel.com.au/events/mike-elrington-live-fri-june-19th-8-32pm/
LOCATION:Marlo Hotel\, 19 Argyle Parade\, Marlo\, VIC\, 3888\, Australia
END:VEVENT
END:VCALENDAR