BEGIN:VCALENDAR
VERSION:2.0
PRODID:-//Marlo Hotel - ECPv5.3.2.1//NONSGML v1.0//EN
CALSCALE:GREGORIAN
METHOD:PUBLISH
X-WR-CALNAME:Marlo Hotel
X-ORIGINAL-URL:https://marlohotel.com.au
X-WR-CALDESC:Events for Marlo Hotel
BEGIN:VTIMEZONE
TZID:UTC
BEGIN:STANDARD
TZOFFSETFROM:+0000
TZOFFSETTO:+0000
TZNAME:UTC
DTSTART:20190101T000000
END:STANDARD
END:VTIMEZONE
BEGIN:VEVENT
DTSTART;TZID=UTC:20190802T200500
DTEND;TZID=UTC:20190802T233000
DTSTAMP:20210226T030401
CREATED:20171212T111620Z
LAST-MODIFIED:20190713T054432Z
UID:575-1564776300-1564788600@marlohotel.com.au
SUMMARY:KURT GENTLE Live Fri Aug 2nd 8.03pm FREE ENTRY
DESCRIPTION:Great to have Kurt back in Marlo on Friday August 2nd. Kurt is one of Melbourne’s most loved singer-songwriters\, a seasoned\, though young\, solo musician amongst the Australian Blues-Roots scene. Kurt delivers a beautifully crafted set full of high energy stomp\, overdriven lap slide guitar\, old school fingerstyle shred\, all within an atmosphere of soul-baring songwriting. Kurt plays a variety of instruments that he blends into his unique sound – numerous guitars\, harmonica\, stompbox\, tambourine\, and vocals. \nKurt will get your toes tapping with his stomp and bold\, overdriven riffs. \nhttp://kurtgentle.com/?page_id=24\nwww.kurtgentle.com/ \nhttps://www.triplejunearthed.com/artist/kurt-gentle \nhttps://kurtgentle.bandcamp.com/ \nhttps://soundcloud.com/kurt-gentle
URL:https://marlohotel.com.au/events/kurt-gentle-live-fri-dec-29th-8-16pm-free-entry/
LOCATION:Marlo Hotel\, 19 Argyle Parade\, Marlo\, VIC\, 3888\, Australia
END:VEVENT
END:VCALENDAR