BEGIN:VCALENDAR
VERSION:2.0
PRODID:-//Marlo Hotel - ECPv5.3.2.1//NONSGML v1.0//EN
CALSCALE:GREGORIAN
METHOD:PUBLISH
X-WR-CALNAME:Marlo Hotel
X-ORIGINAL-URL:https://marlohotel.com.au
X-WR-CALDESC:Events for Marlo Hotel
BEGIN:VTIMEZONE
TZID:UTC
BEGIN:STANDARD
TZOFFSETFROM:+0000
TZOFFSETTO:+0000
TZNAME:UTC
DTSTART:20190101T000000
END:STANDARD
END:VTIMEZONE
BEGIN:VEVENT
DTSTART;TZID=UTC:20191102T201000
DTEND;TZID=UTC:20191102T233000
DTSTAMP:20210226T025524
CREATED:20190506T111911Z
LAST-MODIFIED:20191014T104905Z
UID:686-1572725400-1572737400@marlohotel.com.au
SUMMARY:HENRY DAVIS LIVE Sat Nov 2nd  8.12pm FREE ENTRY
DESCRIPTION:Great to be welcoming Henry Davis back to Marlo This Melb Cup Weekend. Henry is a young acoustic guitarist and vocalist from Nungurner in the heart of East Gippsland. He has 15 year’s experience on guitar and 6 years performing experience. He has a great mix of his own original songs and all the classic covers. Henry explores the raw dirty roots of music and draws on music from an array of decades and genres. He always makes sure a song is never played twice and plays to his audience\, adding his own twists to songs. Definitely an enthusiastic and energetic performer ready to share his infinite lasting passion for his music. Live in the front bar from 8.12pm Sat Nov 2nd\nhttps://www.henryrdavis.com/
URL:https://marlohotel.com.au/events/henry-davis-live-sat-may-18th-8-07pm/
LOCATION:Marlo Hotel\, 19 Argyle Parade\, Marlo\, VIC\, 3888\, Australia
END:VEVENT
END:VCALENDAR