BEGIN:VCALENDAR
VERSION:2.0
PRODID:-//Marlo Hotel - ECPv5.3.2.1//NONSGML v1.0//EN
CALSCALE:GREGORIAN
METHOD:PUBLISH
X-WR-CALNAME:Marlo Hotel
X-ORIGINAL-URL:https://marlohotel.com.au
X-WR-CALDESC:Events for Marlo Hotel
BEGIN:VTIMEZONE
TZID:UTC
BEGIN:STANDARD
TZOFFSETFROM:+0000
TZOFFSETTO:+0000
TZNAME:UTC
DTSTART:20190101T000000
END:STANDARD
END:VTIMEZONE
BEGIN:VEVENT
DTSTART;TZID=UTC:20191206T200500
DTEND;TZID=UTC:20191206T233000
DTSTAMP:20210226T025557
CREATED:20191114T092758Z
LAST-MODIFIED:20191114T092815Z
UID:757-1575662700-1575675000@marlohotel.com.au
SUMMARY:Graham Howie Live Fri Dec 6th 8.09pm FREE ENTRY
DESCRIPTION:Very pleased to be welcoming Graham Howie to Marlo on Fri Dec 6th. \nGraham plays acoustically all of his original songs from his album ‘Man with a Story’\, some of his unreleased songs and a large variety of covered music from the 70’s to now\, Rock to Blues and Country. Graham’s original music can be classified in the genre of alternate country\, country rock and folk. He is one man\, one guitar\, great sound\, powerful vocals.  \nThis friendly\, talented man years ago worked as a fitter machinist\, played guitar and sang nightly to his children as they went off to sleep. Now Graham is touring Australia full time as an independent artist singing his stories to people far and wide across Australia. Festivals\, pubs\, clubs\, halls even around campfires are likely places to hear his strong\, clear voice. \nGraham will be live in the front bar 8.09pm . FREE ENTRY
URL:https://marlohotel.com.au/events/graham-howie-live-fri-dec-6th-8-09pm-free-entry/
LOCATION:Marlo Hotel\, 19 Argyle Parade\, Marlo\, VIC\, 3888\, Australia
END:VEVENT
END:VCALENDAR