BEGIN:VCALENDAR
VERSION:2.0
PRODID:-//Marlo Hotel - ECPv5.3.2.1//NONSGML v1.0//EN
CALSCALE:GREGORIAN
METHOD:PUBLISH
X-WR-CALNAME:Marlo Hotel
X-ORIGINAL-URL:https://marlohotel.com.au
X-WR-CALDESC:Events for Marlo Hotel
BEGIN:VTIMEZONE
TZID:UTC
BEGIN:STANDARD
TZOFFSETFROM:+0000
TZOFFSETTO:+0000
TZNAME:UTC
DTSTART:20200101T000000
END:STANDARD
END:VTIMEZONE
BEGIN:VEVENT
DTSTART;TZID=UTC:20200117T202000
DTEND;TZID=UTC:20200117T233000
DTSTAMP:20210226T024453
CREATED:20190120T030043Z
LAST-MODIFIED:20200113T102817Z
UID:661-1579292400-1579303800@marlohotel.com.au
SUMMARY:Daniel Luhrs Live at Marlo Fri Jan 17th 8.19pm
DESCRIPTION:Pleased to be welcoming Daniel Luhrs back to Marlo this Friday night. Quality acoustics with a good mix of originals and all your favorite pub covers. Live in the front bar from 8.19pm \, entry by gold coin donation with all proceeds going into our bushfire recovery fund. Hope to see you on Friday Night
URL:https://marlohotel.com.au/events/daniel-luhrs-live-at-marlo-fri-jan-25th-7-49pm/
LOCATION:Marlo Hotel\, 19 Argyle Parade\, Marlo\, VIC\, 3888\, Australia
END:VEVENT
END:VCALENDAR