BEGIN:VCALENDAR
VERSION:2.0
PRODID:-//Marlo Hotel - ECPv5.3.2.1//NONSGML v1.0//EN
CALSCALE:GREGORIAN
METHOD:PUBLISH
X-WR-CALNAME:Marlo Hotel
X-ORIGINAL-URL:https://marlohotel.com.au
X-WR-CALDESC:Events for Marlo Hotel
BEGIN:VTIMEZONE
TZID:UTC
BEGIN:STANDARD
TZOFFSETFROM:+0000
TZOFFSETTO:+0000
TZNAME:UTC
DTSTART:20190101T000000
END:STANDARD
END:VTIMEZONE
BEGIN:VEVENT
DTSTART;TZID=UTC:20191105T110000
DTEND;TZID=UTC:20191105T180000
DTSTAMP:20210226T025530
CREATED:20151020T051805Z
LAST-MODIFIED:20191031T022744Z
UID:374-1572951600-1572976800@marlohotel.com.au
SUMMARY:CUP DAY CELEBRATIONS AT MARLO Tues Nov 5th
DESCRIPTION:Lots of fun for all to enjoy this Melbourne Cup day at Marlo. 4 big TVs showing all the action live. Full TAB facilities Cup Sweeps \, meal specials \, give aways \, prizes. Everyone dressed in their Cup Day finery will go into the draw for a $100 Hotel Voucher or a $50 TAB voucher.  Full TAB facilities………….sure to be a great day
URL:https://marlohotel.com.au/events/cup-day-celebrations-at-marlo-tues-nov-3rd/
LOCATION:Marlo Hotel\, 19 Argyle Parade\, Marlo\, VIC\, 3888\, Australia
END:VEVENT
END:VCALENDAR