BEGIN:VCALENDAR
VERSION:2.0
PRODID:-//Marlo Hotel - ECPv5.3.2.1//NONSGML v1.0//EN
CALSCALE:GREGORIAN
METHOD:PUBLISH
X-WR-CALNAME:Marlo Hotel
X-ORIGINAL-URL:https://marlohotel.com.au
X-WR-CALDESC:Events for Marlo Hotel
BEGIN:VTIMEZONE
TZID:UTC
BEGIN:STANDARD
TZOFFSETFROM:+0000
TZOFFSETTO:+0000
TZNAME:UTC
DTSTART:20190101T000000
END:STANDARD
END:VTIMEZONE
BEGIN:VEVENT
DTSTART;TZID=UTC:20190913T200500
DTEND;TZID=UTC:20190913T233000
DTSTAMP:20210226T030443
CREATED:20170313T111102Z
LAST-MODIFIED:20190807T121725Z
UID:538-1568405100-1568417400@marlohotel.com.au
SUMMARY:BO JENKINS Live Fri Sep13th 8.04pm FREE ENTRY
DESCRIPTION:Blues and guitar legend Bo Jenkins is back in Marlo on Fri Sep 13th . Live in the front bar from 8.04pm . Always a quality gig from this very talented guy.  Country Rock and Blues from a real professional . Bo plays to full houses all over Oz and has played with and for some of the greats. Do yourself a favor and dont miss him in the front bar at Marlo on Friday Sep 13th . FREE ENTRY \n  \n 
URL:https://marlohotel.com.au/events/bo-jenkins-live-fri-april-14th-7-54pm-free-entry/
LOCATION:Marlo Hotel\, 19 Argyle Parade\, Marlo\, VIC\, 3888\, Australia
END:VEVENT
END:VCALENDAR