BEGIN:VCALENDAR
VERSION:2.0
PRODID:-//Marlo Hotel - ECPv5.3.2.1//NONSGML v1.0//EN
CALSCALE:GREGORIAN
METHOD:PUBLISH
X-WR-CALNAME:Marlo Hotel
X-ORIGINAL-URL:https://marlohotel.com.au
X-WR-CALDESC:Events for Marlo Hotel
BEGIN:VTIMEZONE
TZID:UTC
BEGIN:STANDARD
TZOFFSETFROM:+0000
TZOFFSETTO:+0000
TZNAME:UTC
DTSTART:20200101T000000
END:STANDARD
END:VTIMEZONE
BEGIN:VEVENT
DTSTART;TZID=UTC:20200221T202500
DTEND;TZID=UTC:20200221T233000
DTSTAMP:20210226T024603
CREATED:20200205T123459Z
LAST-MODIFIED:20200205T123459Z
UID:778-1582316700-1582327800@marlohotel.com.au
SUMMARY:Andrew Farrell [The Wizard] Live@ Marlo Fri Feb 21st 8.23PM
DESCRIPTION:Great to be welcoming The Wizard \, Andrew Farrell to Marlo on Fri Feb 21st – Andrew is one of Ozs greatest pianist\, singer\, songwriter\, combinations with a tremendous live show. \n\n\nAndrew learned to play piano by ear from his parents records and the radio . Andrew developed a very fast playing style without losing accuracy and from the age of sixteen he began playing in bars and clubs as a solo pianist. \n\n\nSince 1999 Andrew Farrell (the Wizard) has been touring regularly around Australia and overseas\, performing in major jazz/blues festivals\, venues and concert halls\, including Noosa Jazz festival\, Wagga Wagga Jazz & Blues Festival\, Merimbula Jazz Festival\, Goulburn Blues Festival\, Broadbeach Blues Festival\, Echuca Blues Festival\, Paynesville Music Festival and many others.\n\n\nOver the years this phenomenally gifted artist has developed a stunningly unique piano style\, where he often combines classical elements with jazz\, boogie-woogie and blues. \n\n\nDon’t miss Andrew Farrell’s (the Wizard) show\, at Marlo Friday Feb 21st . Live from 8.23pm FREE ENTRY
URL:https://marlohotel.com.au/events/andrew-farrell-the-wizard-live-marlo-fri-feb-21st-8-23pm/
LOCATION:Marlo Hotel\, 19 Argyle Parade\, Marlo\, VIC\, 3888\, Australia
END:VEVENT
END:VCALENDAR