BEGIN:VCALENDAR
VERSION:2.0
PRODID:-//Marlo Hotel - ECPv5.3.2.1//NONSGML v1.0//EN
CALSCALE:GREGORIAN
METHOD:PUBLISH
X-WR-CALNAME:Marlo Hotel
X-ORIGINAL-URL:https://marlohotel.com.au
X-WR-CALDESC:Events for Marlo Hotel
BEGIN:VTIMEZONE
TZID:UTC
BEGIN:STANDARD
TZOFFSETFROM:+0000
TZOFFSETTO:+0000
TZNAME:UTC
DTSTART:20190101T000000
END:STANDARD
END:VTIMEZONE
BEGIN:VEVENT
DTSTART;TZID=UTC:20190907T203500
DTEND;TZID=UTC:20190907T235500
DTSTAMP:20210226T030429
CREATED:20180319T054943Z
LAST-MODIFIED:20190807T120708Z
UID:599-1567888500-1567900500@marlohotel.com.au
SUMMARY:AMNESIA BLUES BAND Live 8.36PM Sat Sep 7th. FREE ENTRY
DESCRIPTION:Very pleased to have the THE AMNESIA BLUES BAND back with us on Sat Sep 7th. These guys are a traditional blues band from Victoria\, Australia\, bringing you original hollerin’\, boogie blues and the music of Muddy Waters\, Elmore James\, John Lee Hooker and Buddy Guy. \nIn 2016 the band were voted the Melbourne Blues Appreciation Society Vic/Tas Band of the Year\, and they have been finalists in the MBAS International Blues Challenge in 2016 & 2017. A quality live act with a big blues sound. \nhttps://www.youtube.com/playlist?list=PLpANrq79oBfIuwYsBpUhjX3bze3KNq6Sr \nhttp://www.amnesiabluesband.com \nwww.facebook.com/amnesiabluesband
URL:https://marlohotel.com.au/events/amnesia-blues-band-live-8-42pm-easter-saturday-31st-march-free-entry/
LOCATION:Marlo Hotel\, 19 Argyle Parade\, Marlo\, VIC\, 3888\, Australia
END:VEVENT
END:VCALENDAR